BEGIN:VCALENDAR
VERSION:2.0
PRODID:-//Meine Bildung und Ich e.V. - ECPv6.15.16.1//NONSGML v1.0//EN
CALSCALE:GREGORIAN
METHOD:PUBLISH
X-ORIGINAL-URL:https://meinebildungundich.de
X-WR-CALDESC:Events for Meine Bildung und Ich e.V.
REFRESH-INTERVAL;VALUE=DURATION:PT1H
X-Robots-Tag:noindex
X-PUBLISHED-TTL:PT1H
BEGIN:VTIMEZONE
TZID:Europe/Berlin
BEGIN:DAYLIGHT
TZOFFSETFROM:+0100
TZOFFSETTO:+0200
TZNAME:CEST
DTSTART:20220327T010000
END:DAYLIGHT
BEGIN:STANDARD
TZOFFSETFROM:+0200
TZOFFSETTO:+0100
TZNAME:CET
DTSTART:20221030T010000
END:STANDARD
BEGIN:DAYLIGHT
TZOFFSETFROM:+0100
TZOFFSETTO:+0200
TZNAME:CEST
DTSTART:20230326T010000
END:DAYLIGHT
BEGIN:STANDARD
TZOFFSETFROM:+0200
TZOFFSETTO:+0100
TZNAME:CET
DTSTART:20231029T010000
END:STANDARD
BEGIN:DAYLIGHT
TZOFFSETFROM:+0100
TZOFFSETTO:+0200
TZNAME:CEST
DTSTART:20240331T010000
END:DAYLIGHT
BEGIN:STANDARD
TZOFFSETFROM:+0200
TZOFFSETTO:+0100
TZNAME:CET
DTSTART:20241027T010000
END:STANDARD
END:VTIMEZONE
BEGIN:VTIMEZONE
TZID:UTC
BEGIN:STANDARD
TZOFFSETFROM:+0000
TZOFFSETTO:+0000
TZNAME:UTC
DTSTART:20200101T000000
END:STANDARD
END:VTIMEZONE
BEGIN:VEVENT
DTSTART;VALUE=DATE:20231101
DTEND;VALUE=DATE:20231221
DTSTAMP:20260421T101039
CREATED:20231017T155136Z
LAST-MODIFIED:20231212T155029Z
UID:6516-1698796800-1703116799@meinebildungundich.de
SUMMARY:MiA-Kurs für Frauen
DESCRIPTION:Lerne Deutsch im MiA-Kurs für Frauen\, lerne dabei neue Leute kennen und entdecke neue Orte in der Stadt bei spannenden Ausflügen! \nWann und wo?\nJeden Montag und Mittwoch vom 01. November bis zum 20. Dezember von 9 bis 12.30 Uhr in unseren Vereinsräumlichkeiten (Möserstr. 1) \nDer Kurs ist kostenlos. Weitere Infos und Anmeldung unter info@meinebildungundich.de! \nWir freuen uns auf Euch!\nEuer Team von Meine Bildung und Ich e.V. \n\n\n  \n\n\n\nZur Anmeldung:\n\n Dein Name\n \n \n Deine E-Mail-Adresse\n \n \n Deine Telefonnummer\n \n \n Dein Alter\n \n \n Deine Nachricht (optional)\n \n \n\n\n\n\n\n						This form can be submitted up to 2 times.			\n\n \nBitte beweise\, dass du kein Spambot bist und wähle das Symbol Tasse.\n    \n    \n        \n    \n \n\n \nΔ
URL:https://meinebildungundich.de/event/mia-kurs-fuer-frauen/
END:VEVENT
BEGIN:VEVENT
DTSTART;VALUE=DATE:20231027
DTEND;VALUE=DATE:20231101
DTSTAMP:20260421T101039
CREATED:20231004T151607Z
LAST-MODIFIED:20231004T151607Z
UID:6504-1698364800-1698796799@meinebildungundich.de
SUMMARY:Kulturcamp in der tschechischen Hauptstadt Prag
DESCRIPTION:Jugendliche und junge Erwachsene von 18 bis 26 Jahren
URL:https://meinebildungundich.de/event/kulturcamp-in-der-tschechischen-hauptstadt-prag/
END:VEVENT
BEGIN:VEVENT
DTSTART;VALUE=DATE:20231023
DTEND;VALUE=DATE:20231026
DTSTAMP:20260421T101039
CREATED:20231017T132603Z
LAST-MODIFIED:20231017T132603Z
UID:6512-1698019200-1698278399@meinebildungundich.de
SUMMARY:Feriencamp Herbstaktion
DESCRIPTION:für Kinder und Jugendliche von 9 bis 14 \nEin spannendes Programm erwartet euch!  \nDiese Aktionen finden jeweils von 9 bis 15.30 Uhr statt: \nMontag\, 23.10.: Boulderhalle\nDienstag\, 24.10.: Reiterverein am Rubbenbruchsee\nMittwoch\, 25.10.: Trampolinhalle UpSprung \nWir freuen uns auf Euch!
URL:https://meinebildungundich.de/event/feriencamp-herbstaktion/
END:VEVENT
BEGIN:VEVENT
DTSTART;TZID=Europe/Berlin:20231020T180000
DTEND;TZID=Europe/Berlin:20231020T200000
DTSTAMP:20260421T101039
CREATED:20231017T133032Z
LAST-MODIFIED:20231017T155224Z
UID:6514-1697824800-1697832000@meinebildungundich.de
SUMMARY:Running Dinner: Informationsveranstaltung / Information event
DESCRIPTION:Du isst und kochst gerne\, suchst neue Kontakte und interessierst Dich für gesunde Ernährung? Am Freitag\, dem 20.10. stellen wir Dir ab 18 Uhr unser neues Projekt “Running Dinner Osnabrück” vor – Komm vorbei\, bring gerne eine Kleinigkeit zu Essen mit und genieße mit uns den Abend! Hör Dir an\, was wir im Projekt vorhaben. Und wenn Du Lust hast\, dann mach mit im ehrenamtlichen Orga-Team und bring Dich mit Deinen Ideen ein. \nMelde Dich jetzt an unter info@meinebildungundich.de oder 01520 1401610. \nWir freuen uns auf Dich!\nDein Team von\nMeine Bildung und Ich e.V. \n*********************************************************************************************************************************** \nDo you enjoy eating and cooking\, seek new connections\, and have an interest in healthy nutrition? On Friday\, October 20th\, starting from 6 PM\, we’ll introduce our new project\, “Running Dinner Osnabrück” to you. Come join us\, feel free to bring a small dish to share\, and enjoy the evening with us! Listen to what we have planned for the project. And if you’re interested\, consider participating in the volunteer organizing team and contribute your ideas. \nSign up now at info@meinebildungundich.de or 01520 1401610. \nWe’re looking forward to having you!\nYour team at\nMeine Bildung und Ich e.V.
URL:https://meinebildungundich.de/event/running-dinner-informationsveranstaltung-information-event/
END:VEVENT
BEGIN:VEVENT
DTSTART;VALUE=DATE:20231020
DTEND;VALUE=DATE:20231022
DTSTAMP:20260421T101039
CREATED:20231017T130813Z
LAST-MODIFIED:20231017T130843Z
UID:6507-1697760000-1697932799@meinebildungundich.de
SUMMARY:Information event for international students / Informationsveranstaltung für internationale Studierende
DESCRIPTION:Dear students\, \nThe association “Meine Bildung und Ich e.V.” and the Welcome@UOS project of the International Office at the University of Osnabrück are pleased to invite you to our upcoming information sessions for new international students. These events are designed to assist you in your transition to Germany and ensure a successful integration into your studies. \nEvent Dates: \n– Friday\, October 20th\, 4:00 PM – 7:00 PM\n– Saturday\, October 21st\, 12:30 PM – 3:30 PM \nEvent Location: \n– Möserstraße 1\, Osnabrück \nOur information sessions will provide you with initial guidance for your daily life in Germany. We aim to create a space for specific questions on various topics\, including: \n– Insurance\n– Study financing\n– Building social connections\n– Opportunities for volunteer engagement\n– Existing counseling services in Osnabrück \nThese events mark the beginning of our planned regular counseling and networking services specifically for international students. The sessions will be interactive to better address your individual needs. We also offer the option to conduct the events in multiple languages\, including German\, English\, Turkish\, and Arabic. \nWe are now accepting registrations via our email address info@meinebildungundich.de. Registration is possible until Friday at 10 AM. \nWe look forward to welcoming you on these days and assisting you with your start. Refreshments and snacks will be provided. \nSincerely\, \nthe Team of Meine Bildung und Ich \n*********************************************************************************************************************************** \nLiebe Studierende\, \nder Verein Meine Bildung und Ich e.V. und das Welcome@UOS Projekt des International Office der Universität Osnabrück freuen uns\, euch zu unseren bevorstehenden Informationsveranstaltungen für neue internationale Studierende einzuladen. Diese Veranstaltungen finden statt\, um euch bei eurem Start in Deutschland zu unterstützen und eine erfolgreiche Integration in eurem Studium zu gewährleisten. \nVeranstaltungstermine: \n– Freitag\, 20. Oktober\, 16:00 – 19:00 Uhr \n– Samstag\, 21. Oktober\, 12:30 – 15:30 Uhr \nVeranstaltungsort: \n–  Möserstraße 1\, Osnabrück \nUnsere Informationsveranstaltungen bieten eine erste Orientierung für euren Alltag in Deutschland. Wir möchten euch Raum für konkrete Fragen zu verschiedenen Themen bieten\, darunter: \n– Versicherung \n– Studienfinanzierung \n– Aufbau sozialer Kontakte \n– Möglichkeiten des ehrenamtlichen Engagements \n– Bestehende Beratungsangebote in Osnabrück \nDiese Veranstaltungen markieren den Auftakt für unsere geplanten regelmäßigen Beratungs- und Vernetzungsangebote speziell für internationale Studierende. Die Veranstaltungen werden interaktiv gestaltet\, um eure individuellen Bedürfnisse besser zu berücksichtigen. Wir bieten auch die Möglichkeit\, die Veranstaltungen bei Bedarf in mehreren Sprachen durchzuführen\, darunter Deutsch\, Englisch\, Türkisch und Arabisch. \nWir nehmen ab sofort Anmeldungen über unsere E-Mail Adresse info@meinebildungundich.de entgegen. Die Anmeldung ist bis Freitag 10 Uhr möglich. \nWir freuen uns darauf\, euch an diesen Tagen begrüßen zu dürfen und euch beim Start zu unterstützen. Für Getränke und Snacks werden gesorgt. \nDas Team von Meine Bildung und Ich
URL:https://meinebildungundich.de/event/information-event-for-international-students-informationsveranstaltung-fuer-internationale-studierende/
END:VEVENT
BEGIN:VEVENT
DTSTART;TZID=Europe/Berlin:20231008T100000
DTEND;TZID=Europe/Berlin:20231008T163000
DTSTAMP:20260421T101039
CREATED:20231004T151454Z
LAST-MODIFIED:20231004T151454Z
UID:6502-1696759200-1696782600@meinebildungundich.de
SUMMARY:Ausflug in den Kletterwald "Games and Ropes"
DESCRIPTION:Jugendliche und junge Erwachsene ab 15 Jahren
URL:https://meinebildungundich.de/event/ausflug-in-den-kletterwald-games-and-ropes/
END:VEVENT
BEGIN:VEVENT
DTSTART;VALUE=DATE:20220804
DTEND;VALUE=DATE:20220808
DTSTAMP:20260421T101039
CREATED:20220423T100446Z
LAST-MODIFIED:20220423T100446Z
UID:6250-1659571200-1659916799@meinebildungundich.de
SUMMARY:Workshop in Berlin - Empowerment im Kontext von Medien
DESCRIPTION:
URL:https://meinebildungundich.de/event/workshopinberlinempowermentmedien/
CATEGORIES:Event
END:VEVENT
BEGIN:VEVENT
DTSTART;VALUE=DATE:20220718
DTEND;VALUE=DATE:20220723
DTSTAMP:20260421T101039
CREATED:20220423T100334Z
LAST-MODIFIED:20220423T100334Z
UID:6248-1658102400-1658534399@meinebildungundich.de
SUMMARY:Sommer Sportcamp an der Nordsee
DESCRIPTION:
URL:https://meinebildungundich.de/event/sommersportcamp/
CATEGORIES:Event
END:VEVENT
BEGIN:VEVENT
DTSTART;TZID=UTC:20220715T090000
DTEND;TZID=UTC:20220716T180000
DTSTAMP:20260421T101039
CREATED:20220423T095534Z
LAST-MODIFIED:20220423T095640Z
UID:6236-1657875600-1657994400@meinebildungundich.de
SUMMARY:Erlebnispädagogisches Teamtraining im "Kletterwald Osnabrück"
DESCRIPTION:
URL:https://meinebildungundich.de/event/erlebnispaedagogisches-teamtraining-im-kletterwald-osnabrueck/
CATEGORIES:Event
END:VEVENT
BEGIN:VEVENT
DTSTART;VALUE=DATE:20220702
DTEND;VALUE=DATE:20220703
DTSTAMP:20260421T101039
CREATED:20220423T100114Z
LAST-MODIFIED:20220423T100114Z
UID:6244-1656720000-1656806399@meinebildungundich.de
SUMMARY:Interreligiöser Dialog in der Synagoge
DESCRIPTION:
URL:https://meinebildungundich.de/event/interreligioeser-dialog-in-der-synagoge/
CATEGORIES:Event
END:VEVENT
BEGIN:VEVENT
DTSTART;VALUE=DATE:20220701
DTEND;VALUE=DATE:20220702
DTSTAMP:20260421T101039
CREATED:20220423T100214Z
LAST-MODIFIED:20220423T100214Z
UID:6246-1656633600-1656719999@meinebildungundich.de
SUMMARY:Interreligiöser Dialog in der Tawba Moschee
DESCRIPTION:
URL:https://meinebildungundich.de/event/interreligioeser-dialog-in-der-tawba-moschee/
CATEGORIES:Event
END:VEVENT
BEGIN:VEVENT
DTSTART;VALUE=DATE:20220626
DTEND;VALUE=DATE:20220627
DTSTAMP:20260421T101039
CREATED:20220423T100008Z
LAST-MODIFIED:20220423T100008Z
UID:6242-1656201600-1656287999@meinebildungundich.de
SUMMARY:Interreligiöser Dialog in der Luther Kirche
DESCRIPTION:
URL:https://meinebildungundich.de/event/interreligioeser-dialog-in-der-luther-kirche/
CATEGORIES:Event
END:VEVENT
BEGIN:VEVENT
DTSTART;VALUE=DATE:20220625
DTEND;VALUE=DATE:20220626
DTSTAMP:20260421T101039
CREATED:20220423T095919Z
LAST-MODIFIED:20220423T095919Z
UID:6240-1656115200-1656201599@meinebildungundich.de
SUMMARY:Interreligiöser Dialog in der Tawba Moschee
DESCRIPTION:
URL:https://meinebildungundich.de/event/interreligioeserdialog/
CATEGORIES:Event
END:VEVENT
BEGIN:VEVENT
DTSTART;TZID=UTC:20220529T090000
DTEND;TZID=UTC:20220530T180000
DTSTAMP:20260421T101039
CREATED:20220423T095436Z
LAST-MODIFIED:20220423T095705Z
UID:6234-1653814800-1653933600@meinebildungundich.de
SUMMARY:Erlebnispädagogisches Teamtraining im "Kletterwald Osnabrück"
DESCRIPTION:
URL:https://meinebildungundich.de/event/ergebnispaedagogischestraining/
CATEGORIES:Event
END:VEVENT
BEGIN:VEVENT
DTSTART;TZID=UTC:20211222T143000
DTEND;TZID=UTC:20211222T153000
DTSTAMP:20260421T101039
CREATED:20211123T135825Z
LAST-MODIFIED:20211123T135825Z
UID:5916-1640183400-1640187000@meinebildungundich.de
SUMMARY:Lesekreis Gruppe 1
DESCRIPTION:
URL:https://meinebildungundich.de/event/lesekreis-gruppe-1-4/
CATEGORIES:Sprachcafés
ATTACH;FMTTYPE=image/jpeg:https://meinebildungundich.de/wp-content/uploads/2021/11/IMG_9910-scaled.jpg
END:VEVENT
BEGIN:VEVENT
DTSTART;TZID=UTC:20211221T160000
DTEND;TZID=UTC:20211221T170000
DTSTAMP:20260421T101039
CREATED:20211123T140556Z
LAST-MODIFIED:20211123T140556Z
UID:5936-1640102400-1640106000@meinebildungundich.de
SUMMARY:Lesekreis Gruppe 4
DESCRIPTION:
URL:https://meinebildungundich.de/event/lesekreis-gruppe-4/
CATEGORIES:Sprachcafés
ATTACH;FMTTYPE=image/jpeg:https://meinebildungundich.de/wp-content/uploads/2021/11/IMG_9910-scaled.jpg
END:VEVENT
BEGIN:VEVENT
DTSTART;TZID=UTC:20211221T160000
DTEND;TZID=UTC:20211221T170000
DTSTAMP:20260421T101039
CREATED:20211123T135933Z
LAST-MODIFIED:20211123T135933Z
UID:5918-1640102400-1640106000@meinebildungundich.de
SUMMARY:Lesekreis Gruppe 2
DESCRIPTION:
URL:https://meinebildungundich.de/event/lesekreis-gruppe-2/
CATEGORIES:Sprachcafés
ATTACH;FMTTYPE=image/jpeg:https://meinebildungundich.de/wp-content/uploads/2021/11/IMG_9910-scaled.jpg
END:VEVENT
BEGIN:VEVENT
DTSTART;TZID=UTC:20211221T140000
DTEND;TZID=UTC:20211221T160000
DTSTAMP:20260421T101039
CREATED:20211014T112617Z
LAST-MODIFIED:20211014T113000Z
UID:5709-1640095200-1640102400@meinebildungundich.de
SUMMARY:Sprachcafé Dienstag
DESCRIPTION:
URL:https://meinebildungundich.de/event/sprachcafe-montag-10/
CATEGORIES:Sprachcafés
ATTACH;FMTTYPE=image/jpeg:https://meinebildungundich.de/wp-content/uploads/2021/10/6-1-scaled.jpg
END:VEVENT
BEGIN:VEVENT
DTSTART;TZID=UTC:20211220T160000
DTEND;TZID=UTC:20211220T180000
DTSTAMP:20260421T101039
CREATED:20211014T112212Z
LAST-MODIFIED:20211014T113016Z
UID:5689-1640016000-1640023200@meinebildungundich.de
SUMMARY:Sprachcafé Montag
DESCRIPTION:
URL:https://meinebildungundich.de/event/sprachcafe-montag-9/
CATEGORIES:Sprachcafés
ATTACH;FMTTYPE=image/jpeg:https://meinebildungundich.de/wp-content/uploads/2021/10/IMG_5124-scaled.jpg
END:VEVENT
BEGIN:VEVENT
DTSTART;TZID=UTC:20211220T160000
DTEND;TZID=UTC:20211220T170000
DTSTAMP:20260421T101039
CREATED:20211123T140237Z
LAST-MODIFIED:20211123T140237Z
UID:5928-1640016000-1640019600@meinebildungundich.de
SUMMARY:Lesekreis Gruppe 3
DESCRIPTION:
URL:https://meinebildungundich.de/event/lesekreis-gruppe-3/
CATEGORIES:Sprachcafés
ATTACH;FMTTYPE=image/jpeg:https://meinebildungundich.de/wp-content/uploads/2021/11/IMG_9910-scaled.jpg
END:VEVENT
BEGIN:VEVENT
DTSTART;TZID=UTC:20211216T140000
DTEND;TZID=UTC:20211216T160000
DTSTAMP:20260421T101039
CREATED:20211014T114454Z
LAST-MODIFIED:20211014T114454Z
UID:5746-1639663200-1639670400@meinebildungundich.de
SUMMARY:Sprachcafé Donnerstag
DESCRIPTION:
URL:https://meinebildungundich.de/event/sprachcafe-donnerstag-9/
CATEGORIES:Sprachcafés
ATTACH;FMTTYPE=image/jpeg:https://meinebildungundich.de/wp-content/uploads/2021/10/5-scaled.jpg
END:VEVENT
BEGIN:VEVENT
DTSTART;TZID=UTC:20211215T160000
DTEND;TZID=UTC:20211215T180000
DTSTAMP:20260421T101039
CREATED:20211014T113957Z
LAST-MODIFIED:20211014T114000Z
UID:5728-1639584000-1639591200@meinebildungundich.de
SUMMARY:Sprachcafé Mittwoch
DESCRIPTION:
URL:https://meinebildungundich.de/event/sprachcafe-mittwoch-9/
CATEGORIES:Sprachcafés
ATTACH;FMTTYPE=image/jpeg:https://meinebildungundich.de/wp-content/uploads/2021/10/IMG_5121-scaled.jpg
END:VEVENT
BEGIN:VEVENT
DTSTART;TZID=UTC:20211215T143000
DTEND;TZID=UTC:20211215T153000
DTSTAMP:20260421T101039
CREATED:20211123T135759Z
LAST-MODIFIED:20211123T135759Z
UID:5914-1639578600-1639582200@meinebildungundich.de
SUMMARY:Lesekreis Gruppe 1
DESCRIPTION:
URL:https://meinebildungundich.de/event/lesekreis-gruppe-1-3/
CATEGORIES:Sprachcafés
ATTACH;FMTTYPE=image/jpeg:https://meinebildungundich.de/wp-content/uploads/2021/11/IMG_9910-scaled.jpg
END:VEVENT
BEGIN:VEVENT
DTSTART;TZID=UTC:20211214T160000
DTEND;TZID=UTC:20211214T170000
DTSTAMP:20260421T101039
CREATED:20211123T140618Z
LAST-MODIFIED:20211123T140618Z
UID:5938-1639497600-1639501200@meinebildungundich.de
SUMMARY:Lesekreis Gruppe 4
DESCRIPTION:
URL:https://meinebildungundich.de/event/lesekreis-gruppe-4-2/
CATEGORIES:Sprachcafés
ATTACH;FMTTYPE=image/jpeg:https://meinebildungundich.de/wp-content/uploads/2021/11/IMG_9910-scaled.jpg
END:VEVENT
BEGIN:VEVENT
DTSTART;TZID=UTC:20211214T160000
DTEND;TZID=UTC:20211214T170000
DTSTAMP:20260421T101039
CREATED:20211123T135959Z
LAST-MODIFIED:20211123T135959Z
UID:5920-1639497600-1639501200@meinebildungundich.de
SUMMARY:Lesekreis Gruppe 2
DESCRIPTION:
URL:https://meinebildungundich.de/event/lesekreis-gruppe-2-2/
CATEGORIES:Sprachcafés
ATTACH;FMTTYPE=image/jpeg:https://meinebildungundich.de/wp-content/uploads/2021/11/IMG_9910-scaled.jpg
END:VEVENT
BEGIN:VEVENT
DTSTART;TZID=UTC:20211214T140000
DTEND;TZID=UTC:20211214T160000
DTSTAMP:20260421T101039
CREATED:20211014T112555Z
LAST-MODIFIED:20211014T113030Z
UID:5707-1639490400-1639497600@meinebildungundich.de
SUMMARY:Sprachcafé Dienstag
DESCRIPTION:
URL:https://meinebildungundich.de/event/sprachcafe-dienstag-9/
CATEGORIES:Sprachcafés
ATTACH;FMTTYPE=image/jpeg:https://meinebildungundich.de/wp-content/uploads/2021/10/6-1-scaled.jpg
END:VEVENT
BEGIN:VEVENT
DTSTART;TZID=UTC:20211213T160000
DTEND;TZID=UTC:20211213T180000
DTSTAMP:20260421T101039
CREATED:20211014T112200Z
LAST-MODIFIED:20211014T113043Z
UID:5687-1639411200-1639418400@meinebildungundich.de
SUMMARY:Sprachcafé Montag
DESCRIPTION:
URL:https://meinebildungundich.de/event/sprachcafe-montag-8/
CATEGORIES:Sprachcafés
ATTACH;FMTTYPE=image/jpeg:https://meinebildungundich.de/wp-content/uploads/2021/10/IMG_5124-scaled.jpg
END:VEVENT
BEGIN:VEVENT
DTSTART;TZID=UTC:20211213T160000
DTEND;TZID=UTC:20211213T170000
DTSTAMP:20260421T101039
CREATED:20211123T140318Z
LAST-MODIFIED:20211123T140318Z
UID:5930-1639411200-1639414800@meinebildungundich.de
SUMMARY:Lesekreis Gruppe 3
DESCRIPTION:
URL:https://meinebildungundich.de/event/lesekreis-gruppe-3-2/
CATEGORIES:Sprachcafés
ATTACH;FMTTYPE=image/jpeg:https://meinebildungundich.de/wp-content/uploads/2021/11/IMG_9910-scaled.jpg
END:VEVENT
BEGIN:VEVENT
DTSTART;TZID=UTC:20211209T140000
DTEND;TZID=UTC:20211209T160000
DTSTAMP:20260421T101039
CREATED:20211014T114440Z
LAST-MODIFIED:20211014T114440Z
UID:5744-1639058400-1639065600@meinebildungundich.de
SUMMARY:Sprachcafé Donnerstag
DESCRIPTION:
URL:https://meinebildungundich.de/event/sprachcafe-donnerstag-8/
CATEGORIES:Sprachcafés
ATTACH;FMTTYPE=image/jpeg:https://meinebildungundich.de/wp-content/uploads/2021/10/5-scaled.jpg
END:VEVENT
BEGIN:VEVENT
DTSTART;TZID=UTC:20211208T160000
DTEND;TZID=UTC:20211208T180000
DTSTAMP:20260421T101039
CREATED:20211014T113939Z
LAST-MODIFIED:20211014T113939Z
UID:5726-1638979200-1638986400@meinebildungundich.de
SUMMARY:Sprachcafé Mittwoch
DESCRIPTION:
URL:https://meinebildungundich.de/event/sprachcafe-mittwoch-8/
CATEGORIES:Sprachcafés
ATTACH;FMTTYPE=image/jpeg:https://meinebildungundich.de/wp-content/uploads/2021/10/IMG_5121-scaled.jpg
END:VEVENT
END:VCALENDAR