BEGIN:VCALENDAR
VERSION:2.0
PRODID:-//Meine Bildung und Ich e.V. - ECPv6.15.16.1//NONSGML v1.0//EN
CALSCALE:GREGORIAN
METHOD:PUBLISH
X-WR-CALNAME:Meine Bildung und Ich e.V.
X-ORIGINAL-URL:https://meinebildungundich.de
X-WR-CALDESC:Events for Meine Bildung und Ich e.V.
REFRESH-INTERVAL;VALUE=DURATION:PT1H
X-Robots-Tag:noindex
X-PUBLISHED-TTL:PT1H
BEGIN:VTIMEZONE
TZID:UTC
BEGIN:STANDARD
TZOFFSETFROM:+0000
TZOFFSETTO:+0000
TZNAME:UTC
DTSTART:20200101T000000
END:STANDARD
END:VTIMEZONE
BEGIN:VEVENT
DTSTART;TZID=UTC:20211122T160000
DTEND;TZID=UTC:20211122T180000
DTSTAMP:20260419T155150
CREATED:20211014T112055Z
LAST-MODIFIED:20211014T113508Z
UID:5681-1637596800-1637604000@meinebildungundich.de
SUMMARY:Sprachcafé Montag
DESCRIPTION:
URL:https://meinebildungundich.de/event/sprachcafe-montag-5/
CATEGORIES:Sprachcafés
ATTACH;FMTTYPE=image/jpeg:https://meinebildungundich.de/wp-content/uploads/2021/10/IMG_5124-scaled.jpg
END:VEVENT
BEGIN:VEVENT
DTSTART;TZID=UTC:20211118T140000
DTEND;TZID=UTC:20211118T160000
DTSTAMP:20260419T155150
CREATED:20211014T114342Z
LAST-MODIFIED:20211014T114342Z
UID:5738-1637244000-1637251200@meinebildungundich.de
SUMMARY:Sprachcafé Donnerstag
DESCRIPTION:
URL:https://meinebildungundich.de/event/sprachcafe-donnerstag-5/
CATEGORIES:Sprachcafés
ATTACH;FMTTYPE=image/jpeg:https://meinebildungundich.de/wp-content/uploads/2021/10/5-scaled.jpg
END:VEVENT
BEGIN:VEVENT
DTSTART;TZID=UTC:20211117T160000
DTEND;TZID=UTC:20211117T180000
DTSTAMP:20260419T155150
CREATED:20211014T113847Z
LAST-MODIFIED:20211014T113847Z
UID:5720-1637164800-1637172000@meinebildungundich.de
SUMMARY:Sprachcafé Mittwoch
DESCRIPTION:
URL:https://meinebildungundich.de/event/sprachcafe-mittwoch-5/
CATEGORIES:Sprachcafés
ATTACH;FMTTYPE=image/jpeg:https://meinebildungundich.de/wp-content/uploads/2021/10/IMG_5121-scaled.jpg
END:VEVENT
BEGIN:VEVENT
DTSTART;TZID=UTC:20211116T140000
DTEND;TZID=UTC:20211116T160000
DTSTAMP:20260419T155150
CREATED:20211014T112450Z
LAST-MODIFIED:20211014T113448Z
UID:5699-1637071200-1637078400@meinebildungundich.de
SUMMARY:Sprachcafé Dienstag
DESCRIPTION:
URL:https://meinebildungundich.de/event/sprachcafe-dienstag-5/
CATEGORIES:Sprachcafés
ATTACH;FMTTYPE=image/jpeg:https://meinebildungundich.de/wp-content/uploads/2021/10/6-1-scaled.jpg
END:VEVENT
BEGIN:VEVENT
DTSTART;TZID=UTC:20211115T160000
DTEND;TZID=UTC:20211115T180000
DTSTAMP:20260419T155150
CREATED:20211014T112038Z
LAST-MODIFIED:20211014T113431Z
UID:5679-1636992000-1636999200@meinebildungundich.de
SUMMARY:Sprachcafé Montag
DESCRIPTION:
URL:https://meinebildungundich.de/event/sprachcafe-montag-4/
CATEGORIES:Sprachcafés
ATTACH;FMTTYPE=image/jpeg:https://meinebildungundich.de/wp-content/uploads/2021/10/IMG_5124-scaled.jpg
END:VEVENT
BEGIN:VEVENT
DTSTART;TZID=UTC:20211111T140000
DTEND;TZID=UTC:20211111T160000
DTSTAMP:20260419T155150
CREATED:20211014T114324Z
LAST-MODIFIED:20211014T114324Z
UID:5736-1636639200-1636646400@meinebildungundich.de
SUMMARY:Sprachcafé Donnerstag
DESCRIPTION:
URL:https://meinebildungundich.de/event/sprachcafe-donnerstag-4/
CATEGORIES:Sprachcafés
ATTACH;FMTTYPE=image/jpeg:https://meinebildungundich.de/wp-content/uploads/2021/10/5-scaled.jpg
END:VEVENT
BEGIN:VEVENT
DTSTART;TZID=UTC:20211110T160000
DTEND;TZID=UTC:20211110T180000
DTSTAMP:20260419T155150
CREATED:20211014T113829Z
LAST-MODIFIED:20211014T113829Z
UID:5718-1636560000-1636567200@meinebildungundich.de
SUMMARY:Sprachcafé Mittwoch
DESCRIPTION:
URL:https://meinebildungundich.de/event/sprachcafe-mittwoch-4/
CATEGORIES:Sprachcafés
ATTACH;FMTTYPE=image/jpeg:https://meinebildungundich.de/wp-content/uploads/2021/10/IMG_5121-scaled.jpg
END:VEVENT
BEGIN:VEVENT
DTSTART;TZID=UTC:20211109T140000
DTEND;TZID=UTC:20211109T160000
DTSTAMP:20260419T155150
CREATED:20211014T112432Z
LAST-MODIFIED:20211014T113341Z
UID:5697-1636466400-1636473600@meinebildungundich.de
SUMMARY:Sprachcafé Dienstag
DESCRIPTION:
URL:https://meinebildungundich.de/event/sprachcafe-dienstag-4/
CATEGORIES:Sprachcafés
ATTACH;FMTTYPE=image/jpeg:https://meinebildungundich.de/wp-content/uploads/2021/10/6-1-scaled.jpg
END:VEVENT
BEGIN:VEVENT
DTSTART;TZID=UTC:20211108T160000
DTEND;TZID=UTC:20211108T180000
DTSTAMP:20260419T155150
CREATED:20211014T112022Z
LAST-MODIFIED:20211014T113304Z
UID:5677-1636387200-1636394400@meinebildungundich.de
SUMMARY:Sprachcafé Montag
DESCRIPTION:
URL:https://meinebildungundich.de/event/sprachcafe-montag-3/
CATEGORIES:Sprachcafés
ATTACH;FMTTYPE=image/jpeg:https://meinebildungundich.de/wp-content/uploads/2021/10/IMG_5124-scaled.jpg
END:VEVENT
BEGIN:VEVENT
DTSTART;TZID=UTC:20211104T140000
DTEND;TZID=UTC:20211104T160000
DTSTAMP:20260419T155150
CREATED:20211014T114242Z
LAST-MODIFIED:20211014T114242Z
UID:5734-1636034400-1636041600@meinebildungundich.de
SUMMARY:Sprachcafé Donnerstag
DESCRIPTION:
URL:https://meinebildungundich.de/event/sprachcafe-donnerstag-3/
CATEGORIES:Sprachcafés
ATTACH;FMTTYPE=image/jpeg:https://meinebildungundich.de/wp-content/uploads/2021/10/5-scaled.jpg
END:VEVENT
BEGIN:VEVENT
DTSTART;TZID=UTC:20211103T160000
DTEND;TZID=UTC:20211103T180000
DTSTAMP:20260419T155150
CREATED:20211014T113809Z
LAST-MODIFIED:20211014T113809Z
UID:5716-1635955200-1635962400@meinebildungundich.de
SUMMARY:Sprachcafé Mittwoch
DESCRIPTION:
URL:https://meinebildungundich.de/event/sprachcafe-mittwoch-3/
CATEGORIES:Sprachcafés
ATTACH;FMTTYPE=image/jpeg:https://meinebildungundich.de/wp-content/uploads/2021/10/IMG_5121-scaled.jpg
END:VEVENT
BEGIN:VEVENT
DTSTART;TZID=UTC:20211102T140000
DTEND;TZID=UTC:20211102T160000
DTSTAMP:20260419T155150
CREATED:20211014T112410Z
LAST-MODIFIED:20211014T113249Z
UID:5695-1635861600-1635868800@meinebildungundich.de
SUMMARY:Sprachcafé Dienstag
DESCRIPTION:
URL:https://meinebildungundich.de/event/sprachcafe-dienstag-3/
CATEGORIES:Sprachcafés
ATTACH;FMTTYPE=image/jpeg:https://meinebildungundich.de/wp-content/uploads/2021/10/6-1-scaled.jpg
END:VEVENT
BEGIN:VEVENT
DTSTART;TZID=UTC:20211101T160000
DTEND;TZID=UTC:20211101T180000
DTSTAMP:20260419T155150
CREATED:20211014T111950Z
LAST-MODIFIED:20211014T113233Z
UID:5675-1635782400-1635789600@meinebildungundich.de
SUMMARY:Sprachcafé Montag
DESCRIPTION:
URL:https://meinebildungundich.de/event/sprachcafe-montag-2/
CATEGORIES:Sprachcafés
ATTACH;FMTTYPE=image/jpeg:https://meinebildungundich.de/wp-content/uploads/2021/10/IMG_5124-scaled.jpg
END:VEVENT
BEGIN:VEVENT
DTSTART;TZID=UTC:20211028T140000
DTEND;TZID=UTC:20211028T160000
DTSTAMP:20260419T155150
CREATED:20211014T114216Z
LAST-MODIFIED:20211014T114216Z
UID:5732-1635429600-1635436800@meinebildungundich.de
SUMMARY:Sprachcafé Donnerstag
DESCRIPTION:
URL:https://meinebildungundich.de/event/sprachcafe-donnerstag-2/
CATEGORIES:Sprachcafés
ATTACH;FMTTYPE=image/jpeg:https://meinebildungundich.de/wp-content/uploads/2021/10/5-scaled.jpg
END:VEVENT
BEGIN:VEVENT
DTSTART;TZID=UTC:20211027T160000
DTEND;TZID=UTC:20211027T180000
DTSTAMP:20260419T155150
CREATED:20211014T113747Z
LAST-MODIFIED:20211014T113747Z
UID:5714-1635350400-1635357600@meinebildungundich.de
SUMMARY:Sprachcafé Mittwoch
DESCRIPTION:
URL:https://meinebildungundich.de/event/sprachcafe-mittwoch-2/
CATEGORIES:Sprachcafés
ATTACH;FMTTYPE=image/jpeg:https://meinebildungundich.de/wp-content/uploads/2021/10/IMG_5121-scaled.jpg
END:VEVENT
BEGIN:VEVENT
DTSTART;TZID=UTC:20211026T140000
DTEND;TZID=UTC:20211026T160000
DTSTAMP:20260419T155150
CREATED:20211014T112353Z
LAST-MODIFIED:20211014T112948Z
UID:5693-1635256800-1635264000@meinebildungundich.de
SUMMARY:Sprachcafé Dienstag
DESCRIPTION:
URL:https://meinebildungundich.de/event/sprachcafe-dienstag-2/
CATEGORIES:Sprachcafés
ATTACH;FMTTYPE=image/jpeg:https://meinebildungundich.de/wp-content/uploads/2021/10/6-1-scaled.jpg
END:VEVENT
BEGIN:VEVENT
DTSTART;TZID=UTC:20211025T160000
DTEND;TZID=UTC:20211025T180000
DTSTAMP:20260419T155150
CREATED:20211014T111933Z
LAST-MODIFIED:20211014T112927Z
UID:5673-1635177600-1635184800@meinebildungundich.de
SUMMARY:Sprachcafé Montag
DESCRIPTION:
URL:https://meinebildungundich.de/event/sprachcafe-montag/
CATEGORIES:Sprachcafés
ATTACH;FMTTYPE=image/jpeg:https://meinebildungundich.de/wp-content/uploads/2021/10/IMG_5124-scaled.jpg
END:VEVENT
BEGIN:VEVENT
DTSTART;TZID=UTC:20211021T140000
DTEND;TZID=UTC:20211021T160000
DTSTAMP:20260419T155150
CREATED:20211014T114135Z
LAST-MODIFIED:20211014T114135Z
UID:5730-1634824800-1634832000@meinebildungundich.de
SUMMARY:Sprachcafé Donnerstag
DESCRIPTION:
URL:https://meinebildungundich.de/event/sprachcafe-donnerstag/
CATEGORIES:Sprachcafés
ATTACH;FMTTYPE=image/jpeg:https://meinebildungundich.de/wp-content/uploads/2021/10/5-scaled.jpg
END:VEVENT
BEGIN:VEVENT
DTSTART;TZID=UTC:20211020T160000
DTEND;TZID=UTC:20211020T180000
DTSTAMP:20260419T155150
CREATED:20211014T113702Z
LAST-MODIFIED:20211014T113702Z
UID:5712-1634745600-1634752800@meinebildungundich.de
SUMMARY:Sprachcafé Mittwoch
DESCRIPTION:
URL:https://meinebildungundich.de/event/sprachcafe-mittwoch/
CATEGORIES:Sprachcafés
ATTACH;FMTTYPE=image/jpeg:https://meinebildungundich.de/wp-content/uploads/2021/10/IMG_5121-scaled.jpg
END:VEVENT
BEGIN:VEVENT
DTSTART;TZID=UTC:20211019T140000
DTEND;TZID=UTC:20211019T160000
DTSTAMP:20260419T155150
CREATED:20211014T112328Z
LAST-MODIFIED:20211014T112911Z
UID:5691-1634652000-1634659200@meinebildungundich.de
SUMMARY:Sprachcafé Dienstag
DESCRIPTION:
URL:https://meinebildungundich.de/event/sprachcafe-dienstag/
CATEGORIES:Sprachcafés
ATTACH;FMTTYPE=image/jpeg:https://meinebildungundich.de/wp-content/uploads/2021/10/6-1-scaled.jpg
END:VEVENT
BEGIN:VEVENT
DTSTART;TZID=UTC:20211018T160000
DTEND;TZID=UTC:20211018T180000
DTSTAMP:20260419T155150
CREATED:20211014T111347Z
LAST-MODIFIED:20211014T112833Z
UID:5665-1634572800-1634580000@meinebildungundich.de
SUMMARY:Sprachcafé Montag
DESCRIPTION:
URL:https://meinebildungundich.de/event/sprachcafes/
CATEGORIES:Sprachcafés
ATTACH;FMTTYPE=image/jpeg:https://meinebildungundich.de/wp-content/uploads/2021/10/IMG_5124-scaled.jpg
END:VEVENT
BEGIN:VEVENT
DTSTART;TZID=UTC:20210929T080000
DTEND;TZID=UTC:20210929T170000
DTSTAMP:20260419T155150
CREATED:20170425T081855Z
LAST-MODIFIED:20210929T121235Z
UID:782-1632902400-1632934800@meinebildungundich.de
SUMMARY:Sprachcafés September
DESCRIPTION:
URL:https://meinebildungundich.de/event/history-of-tibet/
LOCATION:Envato HQ\, 121 King Street\, Melbourne\, Victoria\, 3000\, Australia
CATEGORIES:Sprachcafés
ATTACH;FMTTYPE=image/jpeg:https://meinebildungundich.de/wp-content/uploads/2021/09/pexels-william-fortunato-6140366-1-scaled.jpg
ORGANIZER;CN="Organizer Name":MAILTO:Email
END:VEVENT
END:VCALENDAR